Workbook

Sheet 예약 대장
A1: 예약일 | B1: 채널 | C1: 예약번호 | D1: 객실 | E1: 입실일 | F1: 퇴실일 | G1: 박 | H1: 예약자 | I1: 연락처 | J1: 인원 | K1: 금액 | L1: 입금 | M1: 상태 | N1: 메모 | O1: 겹침 확인
A2: 46328 | B2: 네이버 | C2: 1102001 | D2: 숲속 A동 | E2: 46333 | F2: 46335 | G2: =IF(AND(ISNUMBER(E2),ISNUMBER(F2)),F2-E2,"") | H2: 김하늘 | I2: 010-0000-1001 | J2: 4 | K2: 320000 | L2: 완료 | M2: 확정 | N2: 아이 2명 | O2: =IF(OR(D2="",NOT(ISNUMBER(E2)),NOT(ISNUMBER(F2)),M2="취소"),"",IF(COUNTIFS($D$2:$D$501,D2,$E$2:$E$501,"<"&F2,$F$2:$F$501,">"&E2,$M$2:$M$501,"<>취소")>1,"겹침",""))
A3: 46329 | B3: 야놀자 | C3: Y88231 | D3: 숲속 B동 | E3: 46333 | F3: 46334 | G3: =IF(AND(ISNUMBER(E3),ISNUMBER(F3)),F3-E3,"") | H3: 이서준 | I3: 010-0000-1002 | J3: 2 | K3: 150000 | L3: 완료 | M3: 확정 | O3: =IF(OR(D3="",NOT(ISNUMBER(E3)),NOT(ISNUMBER(F3)),M3="취소"),"",IF(COUNTIFS($D$2:$D$501,D3,$E$2:$E$501,"<"&F3,$F$2:$F$501,">"&E3,$M$2:$M$501,"<>취소")>1,"겹침",""))
A4: 46331 | B4: 전화·문자 | D4: 별채 | E4: 46334 | F4: 46336 | G4: =IF(AND(ISNUMBER(E4),ISNUMBER(F4)),F4-E4,"") | H4: 박지민 | I4: 010-0000-1003 | J4: 6 | K4: 420000 | L4: 대기 | M4: 확정 | N4: 바베큐 추가 | O4: =IF(OR(D4="",NOT(ISNUMBER(E4)),NOT(ISNUMBER(F4)),M4="취소"),"",IF(COUNTIFS($D$2:$D$501,D4,$E$2:$E$501,"<"&F4,$F$2:$F$501,">"&E4,$M$2:$M$501,"<>취소")>1,"겹침",""))
A5: 46332 | B5: 에어비앤비 | C5: HM4K2Q | D5: 숲속 A동 | E5: 46340 | F5: 46342 | G5: =IF(AND(ISNUMBER(E5),ISNUMBER(F5)),F5-E5,"") | H5: 최유진 | I5: 010-0000-1004 | J5: 3 | K5: 300000 | L5: 완료 | M5: 확정 | O5: =IF(OR(D5="",NOT(ISNUMBER(E5)),NOT(ISNUMBER(F5)),M5="취소"),"",IF(COUNTIFS($D$2:$D$501,D5,$E$2:$E$501,"<"&F5,$F$2:$F$501,">"&E5,$M$2:$M$501,"<>취소")>1,"겹침",""))
A6: 46335 | B6: 네이버 | C6: 1109014 | D6: 숲속 A동 | E6: 46341 | F6: 46343 | G6: =IF(AND(ISNUMBER(E6),ISNUMBER(F6)),F6-E6,"") | H6: 정민호 | I6: 010-0000-1005 | J6: 2 | K6: 300000 | L6: 완료 | M6: 확정 | N6: 겹침 예시 - 확인 후 지우세요 | O6: =IF(OR(D6="",NOT(ISNUMBER(E6)),NOT(ISNUMBER(F6)),M6="취소"),"",IF(COUNTIFS($D$2:$D$501,D6,$E$2:$E$501,"<"&F6,$F$2:$F$501,">"&E6,$M$2:$M$501,"<>취소")>1,"겹침",""))
A7: 46336 | B7: 여기어때 | C7: G20391 | D7: 숲속 B동 | E7: 46347 | F7: 46348 | G7: =IF(AND(ISNUMBER(E7),ISNUMBER(F7)),F7-E7,"") | H7: 한소윤 | I7: 010-0000-1006 | J7: 2 | K7: 160000 | L7: 완료 | M7: 취소 | N7: 취소는 지우지 말고 상태만 바꿉니다 | O7: =IF(OR(D7="",NOT(ISNUMBER(E7)),NOT(ISNUMBER(F7)),M7="취소"),"",IF(COUNTIFS($D$2:$D$501,D7,$E$2:$E$501,"<"&F7,$F$2:$F$501,">"&E7,$M$2:$M$501,"<>취소")>1,"겹침",""))
G8: =IF(AND(ISNUMBER(E8),ISNUMBER(F8)),F8-E8,"") | O8: =IF(OR(D8="",NOT(ISNUMBER(E8)),NOT(ISNUMBER(F8)),M8="취소"),"",IF(COUNTIFS($D$2:$D$501,D8,$E$2:$E$501,"<"&F8,$F$2:$F$501,">"&E8,$M$2:$M$501,"<>취소")>1,"겹침",""))
G9: =IF(AND(ISNUMBER(E9),ISNUMBER(F9)),F9-E9,"") | O9: =IF(OR(D9="",NOT(ISNUMBER(E9)),NOT(ISNUMBER(F9)),M9="취소"),"",IF(COUNTIFS($D$2:$D$501,D9,$E$2:$E$501,"<"&F9,$F$2:$F$501,">"&E9,$M$2:$M$501,"<>취소")>1,"겹침",""))
G10: =IF(AND(ISNUMBER(E10),ISNUMBER(F10)),F10-E10,"") | O10: =IF(OR(D10="",NOT(ISNUMBER(E10)),NOT(ISNUMBER(F10)),M10="취소"),"",IF(COUNTIFS($D$2:$D$501,D10,$E$2:$E$501,"<"&F10,$F$2:$F$501,">"&E10,$M$2:$M$501,"<>취소")>1,"겹침",""))
G11: =IF(AND(ISNUMBER(E11),ISNUMBER(F11)),F11-E11,"") | O11: =IF(OR(D11="",NOT(ISNUMBER(E11)),NOT(ISNUMBER(F11)),M11="취소"),"",IF(COUNTIFS($D$2:$D$501,D11,$E$2:$E$501,"<"&F11,$F$2:$F$501,">"&E11,$M$2:$M$501,"<>취소")>1,"겹침",""))
G12: =IF(AND(ISNUMBER(E12),ISNUMBER(F12)),F12-E12,"") | O12: =IF(OR(D12="",NOT(ISNUMBER(E12)),NOT(ISNUMBER(F12)),M12="취소"),"",IF(COUNTIFS($D$2:$D$501,D12,$E$2:$E$501,"<"&F12,$F$2:$F$501,">"&E12,$M$2:$M$501,"<>취소")>1,"겹침",""))
G13: =IF(AND(ISNUMBER(E13),ISNUMBER(F13)),F13-E13,"") | O13: =IF(OR(D13="",NOT(ISNUMBER(E13)),NOT(ISNUMBER(F13)),M13="취소"),"",IF(COUNTIFS($D$2:$D$501,D13,$E$2:$E$501,"<"&F13,$F$2:$F$501,">"&E13,$M$2:$M$501,"<>취소")>1,"겹침",""))
G14: =IF(AND(ISNUMBER(E14),ISNUMBER(F14)),F14-E14,"") | O14: =IF(OR(D14="",NOT(ISNUMBER(E14)),NOT(ISNUMBER(F14)),M14="취소"),"",IF(COUNTIFS($D$2:$D$501,D14,$E$2:$E$501,"<"&F14,$F$2:$F$501,">"&E14,$M$2:$M$501,"<>취소")>1,"겹침",""))
G15: =IF(AND(ISNUMBER(E15),ISNUMBER(F15)),F15-E15,"") | O15: =IF(OR(D15="",NOT(ISNUMBER(E15)),NOT(ISNUMBER(F15)),M15="취소"),"",IF(COUNTIFS($D$2:$D$501,D15,$E$2:$E$501,"<"&F15,$F$2:$F$501,">"&E15,$M$2:$M$501,"<>취소")>1,"겹침",""))
G16: =IF(AND(ISNUMBER(E16),ISNUMBER(F16)),F16-E16,"") | O16: =IF(OR(D16="",NOT(ISNUMBER(E16)),NOT(ISNUMBER(F16)),M16="취소"),"",IF(COUNTIFS($D$2:$D$501,D16,$E$2:$E$501,"<"&F16,$F$2:$F$501,">"&E16,$M$2:$M$501,"<>취소")>1,"겹침",""))
G17: =IF(AND(ISNUMBER(E17),ISNUMBER(F17)),F17-E17,"") | O17: =IF(OR(D17="",NOT(ISNUMBER(E17)),NOT(ISNUMBER(F17)),M17="취소"),"",IF(COUNTIFS($D$2:$D$501,D17,$E$2:$E$501,"<"&F17,$F$2:$F$501,">"&E17,$M$2:$M$501,"<>취소")>1,"겹침",""))
G18: =IF(AND(ISNUMBER(E18),ISNUMBER(F18)),F18-E18,"") | O18: =IF(OR(D18="",NOT(ISNUMBER(E18)),NOT(ISNUMBER(F18)),M18="취소"),"",IF(COUNTIFS($D$2:$D$501,D18,$E$2:$E$501,"<"&F18,$F$2:$F$501,">"&E18,$M$2:$M$501,"<>취소")>1,"겹침",""))
G19: =IF(AND(ISNUMBER(E19),ISNUMBER(F19)),F19-E19,"") | O19: =IF(OR(D19="",NOT(ISNUMBER(E19)),NOT(ISNUMBER(F19)),M19="취소"),"",IF(COUNTIFS($D$2:$D$501,D19,$E$2:$E$501,"<"&F19,$F$2:$F$501,">"&E19,$M$2:$M$501,"<>취소")>1,"겹침",""))
... G501: =IF(AND(ISNUMBER(E501),ISNUMBER(F501)),F501-E501,"") | O501: =IF(OR(D501="",NOT(ISNUMBER(E501)),NOT(ISNUMBER(F501)),M501="취소"),"",IF(COUNTIFS($D$2:$D$501,D501,$E$2:$E$501,"<"&F501,$F$2:$F$501,">"&E501,$M$2:$M$501,"<>취소")>1,"겹침",""))

Sheet 월별 현황
A1: 보려는 달 | B1: 46327 | F1: ← 그달 1일을 넣으세요. ● 예약 있음, 겹침 = 같은 날 두 건
B2: =IF(B3="","",MID("일월화수목금토",WEEKDAY(B3),1)) | C2: =IF(C3="","",MID("일월화수목금토",WEEKDAY(C3),1)) | D2: =IF(D3="","",MID("일월화수목금토",WEEKDAY(D3),1)) | E2: =IF(E3="","",MID("일월화수목금토",WEEKDAY(E3),1)) | F2: =IF(F3="","",MID("일월화수목금토",WEEKDAY(F3),1)) | G2: =IF(G3="","",MID("일월화수목금토",WEEKDAY(G3),1)) | H2: =IF(H3="","",MID("일월화수목금토",WEEKDAY(H3),1)) | I2: =IF(I3="","",MID("일월화수목금토",WEEKDAY(I3),1)) | ... AF2: =IF(AF3="","",MID("일월화수목금토",WEEKDAY(AF3),1))
A3: 객실 | B3: =IF(1>DAY(EOMONTH($B$1,0)),"",$B$1+0) | C3: =IF(2>DAY(EOMONTH($B$1,0)),"",$B$1+1) | D3: =IF(3>DAY(EOMONTH($B$1,0)),"",$B$1+2) | E3: =IF(4>DAY(EOMONTH($B$1,0)),"",$B$1+3) | F3: =IF(5>DAY(EOMONTH($B$1,0)),"",$B$1+4) | G3: =IF(6>DAY(EOMONTH($B$1,0)),"",$B$1+5) | H3: =IF(7>DAY(EOMONTH($B$1,0)),"",$B$1+6) | I3: =IF(8>DAY(EOMONTH($B$1,0)),"",$B$1+7) | J3: =IF(9>DAY(EOMONTH($B$1,0)),"",$B$1+8) | K3: =IF(10>DAY(EOMONTH($B$1,0)),"",$B$1+9) | L3: =IF(11>DAY(EOMONTH($B$1,0)),"",$B$1+10) | M3: =IF(12>DAY(EOMONTH($B$1,0)),"",$B$1+11) | N3: =IF(13>DAY(EOMONTH($B$1,0)),"",$B$1+12) | O3: =IF(14>DAY(EOMONTH($B$1,0)),"",$B$1+13) | P3: =IF(15>DAY(EOMONTH($B$1,0)),"",$B$1+14) | Q3: =IF(16>DAY(EOMONTH($B$1,0)),"",$B$1+15) | R3: =IF(17>DAY(EOMONTH($B$1,0)),"",$B$1+16) | S3: =IF(18>DAY(EOMONTH($B$1,0)),"",$B$1+17) | T3: =IF(19>DAY(EOMONTH($B$1,0)),"",$B$1+18) | U3: =IF(20>DAY(EOMONTH($B$1,0)),"",$B$1+19) | V3: =IF(21>DAY(EOMONTH($B$1,0)),"",$B$1+20) | W3: =IF(22>DAY(EOMONTH($B$1,0)),"",$B$1+21) | X3: =IF(23>DAY(EOMONTH($B$1,0)),"",$B$1+22) | Y3: =IF(24>DAY(EOMONTH($B$1,0)),"",$B$1+23) | Z3: =IF(25>DAY(EOMONTH($B$1,0)),"",$B$1+24) | AA3: =IF(26>DAY(EOMONTH($B$1,0)),"",$B$1+25) | AB3: =IF(27>DAY(EOMONTH($B$1,0)),"",$B$1+26) | AC3: =IF(28>DAY(EOMONTH($B$1,0)),"",$B$1+27) | AD3: =IF(29>DAY(EOMONTH($B$1,0)),"",$B$1+28) | AE3: =IF(30>DAY(EOMONTH($B$1,0)),"",$B$1+29) | AF3: =IF(31>DAY(EOMONTH($B$1,0)),"",$B$1+30) | AG3: 가동률
A4: =IF(설정!A2="","",설정!A2) | B4: =IF(OR($A4="",B$3=""),"",COUNTIFS('예약 대장'!$D$2:$D$501,$A4,'예약 대장'!$E$2:$E$501,"<="&B$3,'예약 대장'!$F$2:$F$501,">"&B$3,'예약 대장'!$M$2:$M$501,"<>취소")) | C4: =IF(OR($A4="",C$3=""),"",COUNTIFS('예약 대장'!$D$2:$D$501,$A4,'예약 대장'!$E$2:$E$501,"<="&C$3,'예약 대장'!$F$2:$F$501,">"&C$3,'예약 대장'!$M$2:$M$501,"<>취소")) | D4: =IF(OR($A4="",D$3=""),"",COUNTIFS('예약 대장'!$D$2:$D$501,$A4,'예약 대장'!$E$2:$E$501,"<="&D$3,'예약 대장'!$F$2:$F$501,">"&D$3,'예약 대장'!$M$2:$M$501,"<>취소")) | E4: =IF(OR($A4="",E$3=""),"",COUNTIFS('예약 대장'!$D$2:$D$501,$A4,'예약 대장'!$E$2:$E$501,"<="&E$3,'예약 대장'!$F$2:$F$501,">"&E$3,'예약 대장'!$M$2:$M$501,"<>취소")) | F4: =IF(OR($A4="",F$3=""),"",COUNTIFS('예약 대장'!$D$2:$D$501,$A4,'예약 대장'!$E$2:$E$501,"<="&F$3,'예약 대장'!$F$2:$F$501,">"&F$3,'예약 대장'!$M$2:$M$501,"<>취소")) | G4: =IF(OR($A4="",G$3=""),"",COUNTIFS('예약 대장'!$D$2:$D$501,$A4,'예약 대장'!$E$2:$E$501,"<="&G$3,'예약 대장'!$F$2:$F$501,">"&G$3,'예약 대장'!$M$2:$M$501,"<>취소")) | H4: =IF(OR($A4="",H$3=""),"",COUNTIFS('예약 대장'!$D$2:$D$501,$A4,'예약 대장'!$E$2:$E$501,"<="&H$3,'예약 대장'!$F$2:$F$501,">"&H$3,'예약 대장'!$M$2:$M$501,"<>취소")) | I4: =IF(OR($A4="",I$3=""),"",COUNTIFS('예약 대장'!$D$2:$D$501,$A4,'예약 대장'!$E$2:$E$501,"<="&I$3,'예약 대장'!$F$2:$F$501,">"&I$3,'예약 대장'!$M$2:$M$501,"<>취소")) | ... AF4: =IF(OR($A4="",AF$3=""),"",COUNTIFS('예약 대장'!$D$2:$D$501,$A4,'예약 대장'!$E$2:$E$501,"<="&AF$3,'예약 대장'!$F$2:$F$501,">"&AF$3,'예약 대장'!$M$2:$M$501,"<>취소")) | AG4: =IF($A4="","",COUNTIF(B4:AF4,">0")/DAY(EOMONTH($B$1,0)))
A5: =IF(설정!A3="","",설정!A3) | B5: =IF(OR($A5="",B$3=""),"",COUNTIFS('예약 대장'!$D$2:$D$501,$A5,'예약 대장'!$E$2:$E$501,"<="&B$3,'예약 대장'!$F$2:$F$501,">"&B$3,'예약 대장'!$M$2:$M$501,"<>취소")) | C5: =IF(OR($A5="",C$3=""),"",COUNTIFS('예약 대장'!$D$2:$D$501,$A5,'예약 대장'!$E$2:$E$501,"<="&C$3,'예약 대장'!$F$2:$F$501,">"&C$3,'예약 대장'!$M$2:$M$501,"<>취소")) | D5: =IF(OR($A5="",D$3=""),"",COUNTIFS('예약 대장'!$D$2:$D$501,$A5,'예약 대장'!$E$2:$E$501,"<="&D$3,'예약 대장'!$F$2:$F$501,">"&D$3,'예약 대장'!$M$2:$M$501,"<>취소")) | E5: =IF(OR($A5="",E$3=""),"",COUNTIFS('예약 대장'!$D$2:$D$501,$A5,'예약 대장'!$E$2:$E$501,"<="&E$3,'예약 대장'!$F$2:$F$501,">"&E$3,'예약 대장'!$M$2:$M$501,"<>취소")) | F5: =IF(OR($A5="",F$3=""),"",COUNTIFS('예약 대장'!$D$2:$D$501,$A5,'예약 대장'!$E$2:$E$501,"<="&F$3,'예약 대장'!$F$2:$F$501,">"&F$3,'예약 대장'!$M$2:$M$501,"<>취소")) | G5: =IF(OR($A5="",G$3=""),"",COUNTIFS('예약 대장'!$D$2:$D$501,$A5,'예약 대장'!$E$2:$E$501,"<="&G$3,'예약 대장'!$F$2:$F$501,">"&G$3,'예약 대장'!$M$2:$M$501,"<>취소")) | H5: =IF(OR($A5="",H$3=""),"",COUNTIFS('예약 대장'!$D$2:$D$501,$A5,'예약 대장'!$E$2:$E$501,"<="&H$3,'예약 대장'!$F$2:$F$501,">"&H$3,'예약 대장'!$M$2:$M$501,"<>취소")) | I5: =IF(OR($A5="",I$3=""),"",COUNTIFS('예약 대장'!$D$2:$D$501,$A5,'예약 대장'!$E$2:$E$501,"<="&I$3,'예약 대장'!$F$2:$F$501,">"&I$3,'예약 대장'!$M$2:$M$501,"<>취소")) | ... AF5: =IF(OR($A5="",AF$3=""),"",COUNTIFS('예약 대장'!$D$2:$D$501,$A5,'예약 대장'!$E$2:$E$501,"<="&AF$3,'예약 대장'!$F$2:$F$501,">"&AF$3,'예약 대장'!$M$2:$M$501,"<>취소")) | AG5: =IF($A5="","",COUNTIF(B5:AF5,">0")/DAY(EOMONTH($B$1,0)))
A6: =IF(설정!A4="","",설정!A4) | B6: =IF(OR($A6="",B$3=""),"",COUNTIFS('예약 대장'!$D$2:$D$501,$A6,'예약 대장'!$E$2:$E$501,"<="&B$3,'예약 대장'!$F$2:$F$501,">"&B$3,'예약 대장'!$M$2:$M$501,"<>취소")) | C6: =IF(OR($A6="",C$3=""),"",COUNTIFS('예약 대장'!$D$2:$D$501,$A6,'예약 대장'!$E$2:$E$501,"<="&C$3,'예약 대장'!$F$2:$F$501,">"&C$3,'예약 대장'!$M$2:$M$501,"<>취소")) | D6: =IF(OR($A6="",D$3=""),"",COUNTIFS('예약 대장'!$D$2:$D$501,$A6,'예약 대장'!$E$2:$E$501,"<="&D$3,'예약 대장'!$F$2:$F$501,">"&D$3,'예약 대장'!$M$2:$M$501,"<>취소")) | E6: =IF(OR($A6="",E$3=""),"",COUNTIFS('예약 대장'!$D$2:$D$501,$A6,'예약 대장'!$E$2:$E$501,"<="&E$3,'예약 대장'!$F$2:$F$501,">"&E$3,'예약 대장'!$M$2:$M$501,"<>취소")) | F6: =IF(OR($A6="",F$3=""),"",COUNTIFS('예약 대장'!$D$2:$D$501,$A6,'예약 대장'!$E$2:$E$501,"<="&F$3,'예약 대장'!$F$2:$F$501,">"&F$3,'예약 대장'!$M$2:$M$501,"<>취소")) | G6: =IF(OR($A6="",G$3=""),"",COUNTIFS('예약 대장'!$D$2:$D$501,$A6,'예약 대장'!$E$2:$E$501,"<="&G$3,'예약 대장'!$F$2:$F$501,">"&G$3,'예약 대장'!$M$2:$M$501,"<>취소")) | H6: =IF(OR($A6="",H$3=""),"",COUNTIFS('예약 대장'!$D$2:$D$501,$A6,'예약 대장'!$E$2:$E$501,"<="&H$3,'예약 대장'!$F$2:$F$501,">"&H$3,'예약 대장'!$M$2:$M$501,"<>취소")) | I6: =IF(OR($A6="",I$3=""),"",COUNTIFS('예약 대장'!$D$2:$D$501,$A6,'예약 대장'!$E$2:$E$501,"<="&I$3,'예약 대장'!$F$2:$F$501,">"&I$3,'예약 대장'!$M$2:$M$501,"<>취소")) | ... AF6: =IF(OR($A6="",AF$3=""),"",COUNTIFS('예약 대장'!$D$2:$D$501,$A6,'예약 대장'!$E$2:$E$501,"<="&AF$3,'예약 대장'!$F$2:$F$501,">"&AF$3,'예약 대장'!$M$2:$M$501,"<>취소")) | AG6: =IF($A6="","",COUNTIF(B6:AF6,">0")/DAY(EOMONTH($B$1,0)))
A7: =IF(설정!A5="","",설정!A5) | B7: =IF(OR($A7="",B$3=""),"",COUNTIFS('예약 대장'!$D$2:$D$501,$A7,'예약 대장'!$E$2:$E$501,"<="&B$3,'예약 대장'!$F$2:$F$501,">"&B$3,'예약 대장'!$M$2:$M$501,"<>취소")) | C7: =IF(OR($A7="",C$3=""),"",COUNTIFS('예약 대장'!$D$2:$D$501,$A7,'예약 대장'!$E$2:$E$501,"<="&C$3,'예약 대장'!$F$2:$F$501,">"&C$3,'예약 대장'!$M$2:$M$501,"<>취소")) | D7: =IF(OR($A7="",D$3=""),"",COUNTIFS('예약 대장'!$D$2:$D$501,$A7,'예약 대장'!$E$2:$E$501,"<="&D$3,'예약 대장'!$F$2:$F$501,">"&D$3,'예약 대장'!$M$2:$M$501,"<>취소")) | E7: =IF(OR($A7="",E$3=""),"",COUNTIFS('예약 대장'!$D$2:$D$501,$A7,'예약 대장'!$E$2:$E$501,"<="&E$3,'예약 대장'!$F$2:$F$501,">"&E$3,'예약 대장'!$M$2:$M$501,"<>취소")) | F7: =IF(OR($A7="",F$3=""),"",COUNTIFS('예약 대장'!$D$2:$D$501,$A7,'예약 대장'!$E$2:$E$501,"<="&F$3,'예약 대장'!$F$2:$F$501,">"&F$3,'예약 대장'!$M$2:$M$501,"<>취소")) | G7: =IF(OR($A7="",G$3=""),"",COUNTIFS('예약 대장'!$D$2:$D$501,$A7,'예약 대장'!$E$2:$E$501,"<="&G$3,'예약 대장'!$F$2:$F$501,">"&G$3,'예약 대장'!$M$2:$M$501,"<>취소")) | H7: =IF(OR($A7="",H$3=""),"",COUNTIFS('예약 대장'!$D$2:$D$501,$A7,'예약 대장'!$E$2:$E$501,"<="&H$3,'예약 대장'!$F$2:$F$501,">"&H$3,'예약 대장'!$M$2:$M$501,"<>취소")) | I7: =IF(OR($A7="",I$3=""),"",COUNTIFS('예약 대장'!$D$2:$D$501,$A7,'예약 대장'!$E$2:$E$501,"<="&I$3,'예약 대장'!$F$2:$F$501,">"&I$3,'예약 대장'!$M$2:$M$501,"<>취소")) | ... AF7: =IF(OR($A7="",AF$3=""),"",COUNTIFS('예약 대장'!$D$2:$D$501,$A7,'예약 대장'!$E$2:$E$501,"<="&AF$3,'예약 대장'!$F$2:$F$501,">"&AF$3,'예약 대장'!$M$2:$M$501,"<>취소")) | AG7: =IF($A7="","",COUNTIF(B7:AF7,">0")/DAY(EOMONTH($B$1,0)))
A8: =IF(설정!A6="","",설정!A6) | B8: =IF(OR($A8="",B$3=""),"",COUNTIFS('예약 대장'!$D$2:$D$501,$A8,'예약 대장'!$E$2:$E$501,"<="&B$3,'예약 대장'!$F$2:$F$501,">"&B$3,'예약 대장'!$M$2:$M$501,"<>취소")) | C8: =IF(OR($A8="",C$3=""),"",COUNTIFS('예약 대장'!$D$2:$D$501,$A8,'예약 대장'!$E$2:$E$501,"<="&C$3,'예약 대장'!$F$2:$F$501,">"&C$3,'예약 대장'!$M$2:$M$501,"<>취소")) | D8: =IF(OR($A8="",D$3=""),"",COUNTIFS('예약 대장'!$D$2:$D$501,$A8,'예약 대장'!$E$2:$E$501,"<="&D$3,'예약 대장'!$F$2:$F$501,">"&D$3,'예약 대장'!$M$2:$M$501,"<>취소")) | E8: =IF(OR($A8="",E$3=""),"",COUNTIFS('예약 대장'!$D$2:$D$501,$A8,'예약 대장'!$E$2:$E$501,"<="&E$3,'예약 대장'!$F$2:$F$501,">"&E$3,'예약 대장'!$M$2:$M$501,"<>취소")) | F8: =IF(OR($A8="",F$3=""),"",COUNTIFS('예약 대장'!$D$2:$D$501,$A8,'예약 대장'!$E$2:$E$501,"<="&F$3,'예약 대장'!$F$2:$F$501,">"&F$3,'예약 대장'!$M$2:$M$501,"<>취소")) | G8: =IF(OR($A8="",G$3=""),"",COUNTIFS('예약 대장'!$D$2:$D$501,$A8,'예약 대장'!$E$2:$E$501,"<="&G$3,'예약 대장'!$F$2:$F$501,">"&G$3,'예약 대장'!$M$2:$M$501,"<>취소")) | H8: =IF(OR($A8="",H$3=""),"",COUNTIFS('예약 대장'!$D$2:$D$501,$A8,'예약 대장'!$E$2:$E$501,"<="&H$3,'예약 대장'!$F$2:$F$501,">"&H$3,'예약 대장'!$M$2:$M$501,"<>취소")) | I8: =IF(OR($A8="",I$3=""),"",COUNTIFS('예약 대장'!$D$2:$D$501,$A8,'예약 대장'!$E$2:$E$501,"<="&I$3,'예약 대장'!$F$2:$F$501,">"&I$3,'예약 대장'!$M$2:$M$501,"<>취소")) | ... AF8: =IF(OR($A8="",AF$3=""),"",COUNTIFS('예약 대장'!$D$2:$D$501,$A8,'예약 대장'!$E$2:$E$501,"<="&AF$3,'예약 대장'!$F$2:$F$501,">"&AF$3,'예약 대장'!$M$2:$M$501,"<>취소")) | AG8: =IF($A8="","",COUNTIF(B8:AF8,">0")/DAY(EOMONTH($B$1,0)))
A9: =IF(설정!A7="","",설정!A7) | B9: =IF(OR($A9="",B$3=""),"",COUNTIFS('예약 대장'!$D$2:$D$501,$A9,'예약 대장'!$E$2:$E$501,"<="&B$3,'예약 대장'!$F$2:$F$501,">"&B$3,'예약 대장'!$M$2:$M$501,"<>취소")) | C9: =IF(OR($A9="",C$3=""),"",COUNTIFS('예약 대장'!$D$2:$D$501,$A9,'예약 대장'!$E$2:$E$501,"<="&C$3,'예약 대장'!$F$2:$F$501,">"&C$3,'예약 대장'!$M$2:$M$501,"<>취소")) | D9: =IF(OR($A9="",D$3=""),"",COUNTIFS('예약 대장'!$D$2:$D$501,$A9,'예약 대장'!$E$2:$E$501,"<="&D$3,'예약 대장'!$F$2:$F$501,">"&D$3,'예약 대장'!$M$2:$M$501,"<>취소")) | E9: =IF(OR($A9="",E$3=""),"",COUNTIFS('예약 대장'!$D$2:$D$501,$A9,'예약 대장'!$E$2:$E$501,"<="&E$3,'예약 대장'!$F$2:$F$501,">"&E$3,'예약 대장'!$M$2:$M$501,"<>취소")) | F9: =IF(OR($A9="",F$3=""),"",COUNTIFS('예약 대장'!$D$2:$D$501,$A9,'예약 대장'!$E$2:$E$501,"<="&F$3,'예약 대장'!$F$2:$F$501,">"&F$3,'예약 대장'!$M$2:$M$501,"<>취소")) | G9: =IF(OR($A9="",G$3=""),"",COUNTIFS('예약 대장'!$D$2:$D$501,$A9,'예약 대장'!$E$2:$E$501,"<="&G$3,'예약 대장'!$F$2:$F$501,">"&G$3,'예약 대장'!$M$2:$M$501,"<>취소")) | H9: =IF(OR($A9="",H$3=""),"",COUNTIFS('예약 대장'!$D$2:$D$501,$A9,'예약 대장'!$E$2:$E$501,"<="&H$3,'예약 대장'!$F$2:$F$501,">"&H$3,'예약 대장'!$M$2:$M$501,"<>취소")) | I9: =IF(OR($A9="",I$3=""),"",COUNTIFS('예약 대장'!$D$2:$D$501,$A9,'예약 대장'!$E$2:$E$501,"<="&I$3,'예약 대장'!$F$2:$F$501,">"&I$3,'예약 대장'!$M$2:$M$501,"<>취소")) | ... AF9: =IF(OR($A9="",AF$3=""),"",COUNTIFS('예약 대장'!$D$2:$D$501,$A9,'예약 대장'!$E$2:$E$501,"<="&AF$3,'예약 대장'!$F$2:$F$501,">"&AF$3,'예약 대장'!$M$2:$M$501,"<>취소")) | AG9: =IF($A9="","",COUNTIF(B9:AF9,">0")/DAY(EOMONTH($B$1,0)))
A10: =IF(설정!A8="","",설정!A8) | B10: =IF(OR($A10="",B$3=""),"",COUNTIFS('예약 대장'!$D$2:$D$501,$A10,'예약 대장'!$E$2:$E$501,"<="&B$3,'예약 대장'!$F$2:$F$501,">"&B$3,'예약 대장'!$M$2:$M$501,"<>취소")) | C10: =IF(OR($A10="",C$3=""),"",COUNTIFS('예약 대장'!$D$2:$D$501,$A10,'예약 대장'!$E$2:$E$501,"<="&C$3,'예약 대장'!$F$2:$F$501,">"&C$3,'예약 대장'!$M$2:$M$501,"<>취소")) | D10: =IF(OR($A10="",D$3=""),"",COUNTIFS('예약 대장'!$D$2:$D$501,$A10,'예약 대장'!$E$2:$E$501,"<="&D$3,'예약 대장'!$F$2:$F$501,">"&D$3,'예약 대장'!$M$2:$M$501,"<>취소")) | E10: =IF(OR($A10="",E$3=""),"",COUNTIFS('예약 대장'!$D$2:$D$501,$A10,'예약 대장'!$E$2:$E$501,"<="&E$3,'예약 대장'!$F$2:$F$501,">"&E$3,'예약 대장'!$M$2:$M$501,"<>취소")) | F10: =IF(OR($A10="",F$3=""),"",COUNTIFS('예약 대장'!$D$2:$D$501,$A10,'예약 대장'!$E$2:$E$501,"<="&F$3,'예약 대장'!$F$2:$F$501,">"&F$3,'예약 대장'!$M$2:$M$501,"<>취소")) | G10: =IF(OR($A10="",G$3=""),"",COUNTIFS('예약 대장'!$D$2:$D$501,$A10,'예약 대장'!$E$2:$E$501,"<="&G$3,'예약 대장'!$F$2:$F$501,">"&G$3,'예약 대장'!$M$2:$M$501,"<>취소")) | H10: =IF(OR($A10="",H$3=""),"",COUNTIFS('예약 대장'!$D$2:$D$501,$A10,'예약 대장'!$E$2:$E$501,"<="&H$3,'예약 대장'!$F$2:$F$501,">"&H$3,'예약 대장'!$M$2:$M$501,"<>취소")) | I10: =IF(OR($A10="",I$3=""),"",COUNTIFS('예약 대장'!$D$2:$D$501,$A10,'예약 대장'!$E$2:$E$501,"<="&I$3,'예약 대장'!$F$2:$F$501,">"&I$3,'예약 대장'!$M$2:$M$501,"<>취소")) | ... AF10: =IF(OR($A10="",AF$3=""),"",COUNTIFS('예약 대장'!$D$2:$D$501,$A10,'예약 대장'!$E$2:$E$501,"<="&AF$3,'예약 대장'!$F$2:$F$501,">"&AF$3,'예약 대장'!$M$2:$M$501,"<>취소")) | AG10: =IF($A10="","",COUNTIF(B10:AF10,">0")/DAY(EOMONTH($B$1,0)))
A11: =IF(설정!A9="","",설정!A9) | B11: =IF(OR($A11="",B$3=""),"",COUNTIFS('예약 대장'!$D$2:$D$501,$A11,'예약 대장'!$E$2:$E$501,"<="&B$3,'예약 대장'!$F$2:$F$501,">"&B$3,'예약 대장'!$M$2:$M$501,"<>취소")) | C11: =IF(OR($A11="",C$3=""),"",COUNTIFS('예약 대장'!$D$2:$D$501,$A11,'예약 대장'!$E$2:$E$501,"<="&C$3,'예약 대장'!$F$2:$F$501,">"&C$3,'예약 대장'!$M$2:$M$501,"<>취소")) | D11: =IF(OR($A11="",D$3=""),"",COUNTIFS('예약 대장'!$D$2:$D$501,$A11,'예약 대장'!$E$2:$E$501,"<="&D$3,'예약 대장'!$F$2:$F$501,">"&D$3,'예약 대장'!$M$2:$M$501,"<>취소")) | E11: =IF(OR($A11="",E$3=""),"",COUNTIFS('예약 대장'!$D$2:$D$501,$A11,'예약 대장'!$E$2:$E$501,"<="&E$3,'예약 대장'!$F$2:$F$501,">"&E$3,'예약 대장'!$M$2:$M$501,"<>취소")) | F11: =IF(OR($A11="",F$3=""),"",COUNTIFS('예약 대장'!$D$2:$D$501,$A11,'예약 대장'!$E$2:$E$501,"<="&F$3,'예약 대장'!$F$2:$F$501,">"&F$3,'예약 대장'!$M$2:$M$501,"<>취소")) | G11: =IF(OR($A11="",G$3=""),"",COUNTIFS('예약 대장'!$D$2:$D$501,$A11,'예약 대장'!$E$2:$E$501,"<="&G$3,'예약 대장'!$F$2:$F$501,">"&G$3,'예약 대장'!$M$2:$M$501,"<>취소")) | H11: =IF(OR($A11="",H$3=""),"",COUNTIFS('예약 대장'!$D$2:$D$501,$A11,'예약 대장'!$E$2:$E$501,"<="&H$3,'예약 대장'!$F$2:$F$501,">"&H$3,'예약 대장'!$M$2:$M$501,"<>취소")) | I11: =IF(OR($A11="",I$3=""),"",COUNTIFS('예약 대장'!$D$2:$D$501,$A11,'예약 대장'!$E$2:$E$501,"<="&I$3,'예약 대장'!$F$2:$F$501,">"&I$3,'예약 대장'!$M$2:$M$501,"<>취소")) | ... AF11: =IF(OR($A11="",AF$3=""),"",COUNTIFS('예약 대장'!$D$2:$D$501,$A11,'예약 대장'!$E$2:$E$501,"<="&AF$3,'예약 대장'!$F$2:$F$501,">"&AF$3,'예약 대장'!$M$2:$M$501,"<>취소")) | AG11: =IF($A11="","",COUNTIF(B11:AF11,">0")/DAY(EOMONTH($B$1,0)))
A12: =IF(설정!A10="","",설정!A10) | B12: =IF(OR($A12="",B$3=""),"",COUNTIFS('예약 대장'!$D$2:$D$501,$A12,'예약 대장'!$E$2:$E$501,"<="&B$3,'예약 대장'!$F$2:$F$501,">"&B$3,'예약 대장'!$M$2:$M$501,"<>취소")) | C12: =IF(OR($A12="",C$3=""),"",COUNTIFS('예약 대장'!$D$2:$D$501,$A12,'예약 대장'!$E$2:$E$501,"<="&C$3,'예약 대장'!$F$2:$F$501,">"&C$3,'예약 대장'!$M$2:$M$501,"<>취소")) | D12: =IF(OR($A12="",D$3=""),"",COUNTIFS('예약 대장'!$D$2:$D$501,$A12,'예약 대장'!$E$2:$E$501,"<="&D$3,'예약 대장'!$F$2:$F$501,">"&D$3,'예약 대장'!$M$2:$M$501,"<>취소")) | E12: =IF(OR($A12="",E$3=""),"",COUNTIFS('예약 대장'!$D$2:$D$501,$A12,'예약 대장'!$E$2:$E$501,"<="&E$3,'예약 대장'!$F$2:$F$501,">"&E$3,'예약 대장'!$M$2:$M$501,"<>취소")) | F12: =IF(OR($A12="",F$3=""),"",COUNTIFS('예약 대장'!$D$2:$D$501,$A12,'예약 대장'!$E$2:$E$501,"<="&F$3,'예약 대장'!$F$2:$F$501,">"&F$3,'예약 대장'!$M$2:$M$501,"<>취소")) | G12: =IF(OR($A12="",G$3=""),"",COUNTIFS('예약 대장'!$D$2:$D$501,$A12,'예약 대장'!$E$2:$E$501,"<="&G$3,'예약 대장'!$F$2:$F$501,">"&G$3,'예약 대장'!$M$2:$M$501,"<>취소")) | H12: =IF(OR($A12="",H$3=""),"",COUNTIFS('예약 대장'!$D$2:$D$501,$A12,'예약 대장'!$E$2:$E$501,"<="&H$3,'예약 대장'!$F$2:$F$501,">"&H$3,'예약 대장'!$M$2:$M$501,"<>취소")) | I12: =IF(OR($A12="",I$3=""),"",COUNTIFS('예약 대장'!$D$2:$D$501,$A12,'예약 대장'!$E$2:$E$501,"<="&I$3,'예약 대장'!$F$2:$F$501,">"&I$3,'예약 대장'!$M$2:$M$501,"<>취소")) | ... AF12: =IF(OR($A12="",AF$3=""),"",COUNTIFS('예약 대장'!$D$2:$D$501,$A12,'예약 대장'!$E$2:$E$501,"<="&AF$3,'예약 대장'!$F$2:$F$501,">"&AF$3,'예약 대장'!$M$2:$M$501,"<>취소")) | AG12: =IF($A12="","",COUNTIF(B12:AF12,">0")/DAY(EOMONTH($B$1,0)))
A13: =IF(설정!A11="","",설정!A11) | B13: =IF(OR($A13="",B$3=""),"",COUNTIFS('예약 대장'!$D$2:$D$501,$A13,'예약 대장'!$E$2:$E$501,"<="&B$3,'예약 대장'!$F$2:$F$501,">"&B$3,'예약 대장'!$M$2:$M$501,"<>취소")) | C13: =IF(OR($A13="",C$3=""),"",COUNTIFS('예약 대장'!$D$2:$D$501,$A13,'예약 대장'!$E$2:$E$501,"<="&C$3,'예약 대장'!$F$2:$F$501,">"&C$3,'예약 대장'!$M$2:$M$501,"<>취소")) | D13: =IF(OR($A13="",D$3=""),"",COUNTIFS('예약 대장'!$D$2:$D$501,$A13,'예약 대장'!$E$2:$E$501,"<="&D$3,'예약 대장'!$F$2:$F$501,">"&D$3,'예약 대장'!$M$2:$M$501,"<>취소")) | E13: =IF(OR($A13="",E$3=""),"",COUNTIFS('예약 대장'!$D$2:$D$501,$A13,'예약 대장'!$E$2:$E$501,"<="&E$3,'예약 대장'!$F$2:$F$501,">"&E$3,'예약 대장'!$M$2:$M$501,"<>취소")) | F13: =IF(OR($A13="",F$3=""),"",COUNTIFS('예약 대장'!$D$2:$D$501,$A13,'예약 대장'!$E$2:$E$501,"<="&F$3,'예약 대장'!$F$2:$F$501,">"&F$3,'예약 대장'!$M$2:$M$501,"<>취소")) | G13: =IF(OR($A13="",G$3=""),"",COUNTIFS('예약 대장'!$D$2:$D$501,$A13,'예약 대장'!$E$2:$E$501,"<="&G$3,'예약 대장'!$F$2:$F$501,">"&G$3,'예약 대장'!$M$2:$M$501,"<>취소")) | H13: =IF(OR($A13="",H$3=""),"",COUNTIFS('예약 대장'!$D$2:$D$501,$A13,'예약 대장'!$E$2:$E$501,"<="&H$3,'예약 대장'!$F$2:$F$501,">"&H$3,'예약 대장'!$M$2:$M$501,"<>취소")) | I13: =IF(OR($A13="",I$3=""),"",COUNTIFS('예약 대장'!$D$2:$D$501,$A13,'예약 대장'!$E$2:$E$501,"<="&I$3,'예약 대장'!$F$2:$F$501,">"&I$3,'예약 대장'!$M$2:$M$501,"<>취소")) | ... AF13: =IF(OR($A13="",AF$3=""),"",COUNTIFS('예약 대장'!$D$2:$D$501,$A13,'예약 대장'!$E$2:$E$501,"<="&AF$3,'예약 대장'!$F$2:$F$501,">"&AF$3,'예약 대장'!$M$2:$M$501,"<>취소")) | AG13: =IF($A13="","",COUNTIF(B13:AF13,">0")/DAY(EOMONTH($B$1,0)))

Sheet 설정
A1: 객실 이름 | B1: 예약 채널 | D1: 사용법
A2: 숲속 A동 | B2: 네이버 | D2: 1. 이 시트 A열에 객실 이름(최대 10개), B열에 받는 예약 채널을 적습니다.
A3: 숲속 B동 | B3: 야놀자 | D3: 2. '예약 대장' 시트의 예시 행 6개를 지우고 예약을 한 줄에 한 건씩 적습니다.
A4: 별채 | B4: 여기어때 | D4: 3. 박 수와 겹침 확인은 수식이 채웁니다. 겹침이 뜨면 같은 객실 같은 밤에 두 건이 들어간 것입니다.
B5: 에어비앤비 | D5: 4. 퇴실일 당일 입실은 겹침이 아닙니다(오전 퇴실, 오후 입실).
B6: 전화·문자 | D6: 5. 취소된 예약은 지우지 말고 상태를 '취소'로 바꿉니다. 겹침·현황 계산에서 빠집니다.
B7: 기타 | D7: 6. '월별 현황' 시트 B1에 보려는 달의 1일을 넣으면 객실별 달력과 가동률이 나옵니다.
D9: 개인정보 - 연락처가 담긴 파일이니 파일 암호를 걸고, 메신저로 주고받지 마세요.
D10: 지난 예약의 연락처는 필요한 기간이 지나면 지웁니다. 객실 비밀번호는 이 파일에 적지 마세요.
D12: 스테이메이트 블로그 - staymate.io.kr/blog/pension-reservation-excel
